BEGIN:VCALENDAR
VERSION:2.0
PRODID:-//Children&rsquo;s House of Hershey - ECPv6.15.20//NONSGML v1.0//EN
CALSCALE:GREGORIAN
METHOD:PUBLISH
X-ORIGINAL-URL:https://childrenshouseofhershey.com
X-WR-CALDESC:Events for Children&rsquo;s House of Hershey
REFRESH-INTERVAL;VALUE=DURATION:PT1H
X-Robots-Tag:noindex
X-PUBLISHED-TTL:PT1H
BEGIN:VTIMEZONE
TZID:America/New_York
BEGIN:DAYLIGHT
TZOFFSETFROM:-0500
TZOFFSETTO:-0400
TZNAME:EDT
DTSTART:20250309T070000
END:DAYLIGHT
BEGIN:STANDARD
TZOFFSETFROM:-0400
TZOFFSETTO:-0500
TZNAME:EST
DTSTART:20251102T060000
END:STANDARD
BEGIN:DAYLIGHT
TZOFFSETFROM:-0500
TZOFFSETTO:-0400
TZNAME:EDT
DTSTART:20260308T070000
END:DAYLIGHT
BEGIN:STANDARD
TZOFFSETFROM:-0400
TZOFFSETTO:-0500
TZNAME:EST
DTSTART:20261101T060000
END:STANDARD
BEGIN:DAYLIGHT
TZOFFSETFROM:-0500
TZOFFSETTO:-0400
TZNAME:EDT
DTSTART:20270314T070000
END:DAYLIGHT
BEGIN:STANDARD
TZOFFSETFROM:-0400
TZOFFSETTO:-0500
TZNAME:EST
DTSTART:20271107T060000
END:STANDARD
END:VTIMEZONE
BEGIN:VEVENT
DTSTART;VALUE=DATE:20260313
DTEND;VALUE=DATE:20260314
DTSTAMP:20260421T201625
CREATED:20251112T190842Z
LAST-MODIFIED:20251112T190842Z
UID:682-1773360000-1773446399@childrenshouseofhershey.com
SUMMARY:CLOSED - Spring Parent/Teacher Conferences
DESCRIPTION:
URL:https://childrenshouseofhershey.com/event/closed-spring-parent-teacher-conferences-2/
END:VEVENT
BEGIN:VEVENT
DTSTART;VALUE=DATE:20260316
DTEND;VALUE=DATE:20260317
DTSTAMP:20260421T201625
CREATED:20251112T190859Z
LAST-MODIFIED:20251112T190859Z
UID:684-1773619200-1773705599@childrenshouseofhershey.com
SUMMARY:CLOSED - Spring Parent/Teacher Conferences
DESCRIPTION:
URL:https://childrenshouseofhershey.com/event/closed-spring-parent-teacher-conferences-3/
END:VEVENT
BEGIN:VEVENT
DTSTART;VALUE=DATE:20260401
DTEND;VALUE=DATE:20260408
DTSTAMP:20260421T201625
CREATED:20251112T190925Z
LAST-MODIFIED:20251112T190925Z
UID:686-1775001600-1775606399@childrenshouseofhershey.com
SUMMARY:CLOSED - Spring Vacation – No Classes (Possible Snow Make-Up Days)
DESCRIPTION:
URL:https://childrenshouseofhershey.com/event/closed-spring-vacation-no-classes-possible-snow-make-up-days/
END:VEVENT
BEGIN:VEVENT
DTSTART;TZID=America/New_York:20260417T180000
DTEND;TZID=America/New_York:20260417T200000
DTSTAMP:20260421T201625
CREATED:20251112T190956Z
LAST-MODIFIED:20251112T190956Z
UID:688-1776448800-1776456000@childrenshouseofhershey.com
SUMMARY:AM Class Parents’ Night; No AM Class or Lunch Bunch
DESCRIPTION:
URL:https://childrenshouseofhershey.com/event/am-class-parents-night-no-am-class-or-lunch-bunch/
END:VEVENT
BEGIN:VEVENT
DTSTART;TZID=America/New_York:20260424T180000
DTEND;TZID=America/New_York:20260424T200000
DTSTAMP:20260421T201625
CREATED:20251112T191028Z
LAST-MODIFIED:20251112T191028Z
UID:690-1777053600-1777060800@childrenshouseofhershey.com
SUMMARY:PM Class Parents’ Night; No PM Class
DESCRIPTION:
URL:https://childrenshouseofhershey.com/event/pm-class-parents-night-no-pm-class/
END:VEVENT
BEGIN:VEVENT
DTSTART;VALUE=DATE:20260508
DTEND;VALUE=DATE:20260509
DTSTAMP:20260421T201625
CREATED:20251112T191053Z
LAST-MODIFIED:20251112T191053Z
UID:692-1778198400-1778284799@childrenshouseofhershey.com
SUMMARY:AM CLASS Parents’ Day (8:45a-11:45a)
DESCRIPTION:
URL:https://childrenshouseofhershey.com/event/am-class-parents-day-845a-1145a/
END:VEVENT
BEGIN:VEVENT
DTSTART;VALUE=DATE:20260508
DTEND;VALUE=DATE:20260509
DTSTAMP:20260421T201625
CREATED:20251112T191112Z
LAST-MODIFIED:20251112T191112Z
UID:694-1778198400-1778284799@childrenshouseofhershey.com
SUMMARY:PM CLASS Parents’ Day (12:30p – 3:30p)
DESCRIPTION:
URL:https://childrenshouseofhershey.com/event/pm-class-parents-day-1230p-330p/
END:VEVENT
BEGIN:VEVENT
DTSTART;VALUE=DATE:20260525
DTEND;VALUE=DATE:20261206
DTSTAMP:20260421T201625
CREATED:20251112T191131Z
LAST-MODIFIED:20251112T191131Z
UID:696-1779667200-1796515199@childrenshouseofhershey.com
SUMMARY:CLOSED - Memorial Day
DESCRIPTION:
URL:https://childrenshouseofhershey.com/event/closed-memorial-day-2/
END:VEVENT
BEGIN:VEVENT
DTSTART;VALUE=DATE:20260528
DTEND;VALUE=DATE:20260529
DTSTAMP:20260421T201625
CREATED:20251112T191149Z
LAST-MODIFIED:20251112T191149Z
UID:698-1779926400-1780012799@childrenshouseofhershey.com
SUMMARY:LAST CLASS DAY
DESCRIPTION:
URL:https://childrenshouseofhershey.com/event/last-class-day-2/
END:VEVENT
BEGIN:VEVENT
DTSTART;VALUE=DATE:20260530
DTEND;VALUE=DATE:20260531
DTSTAMP:20260421T201625
CREATED:20251112T191210Z
LAST-MODIFIED:20251112T191210Z
UID:700-1780099200-1780185599@childrenshouseofhershey.com
SUMMARY:33rd ANNUAL PICNIC & FAIR  (raindate:  Mon.\, June 1st)
DESCRIPTION:
URL:https://childrenshouseofhershey.com/event/33rd-annual-picnic-fair-raindate-mon-june-1st/
END:VEVENT
END:VCALENDAR